BEGIN:VCALENDAR
VERSION:2.0
PRODID:-//Plone.org//NONSGML plone.app.event//EN
X-WR-TIMEZONE:America/New_York
BEGIN:VEVENT
SUMMARY:Final Examinations
DTSTART;TZID=America/New_York:20260516T000000
DTEND;TZID=America/New_York:20260516T235900
DTSTAMP:20260420T143653Z
UID:10b6852a1bf845f5822f416e223397a5@172.16.140.7:8080
CATEGORIES:Academic Calendar,Spring,student,2026
CREATED:20250701T182632Z
DESCRIPTION:Final Examinations
LAST-MODIFIED:20250904T144729Z
URL:https://www.york.cuny.edu/registrar/calendar/spring/final-examinations
 -7
END:VEVENT
BEGIN:VTIMEZONE
TZID:America/New_York
X-LIC-LOCATION:America/New_York
BEGIN:DAYLIGHT
DTSTART:20260308T030000
TZNAME:EDT
TZOFFSETFROM:-0500
TZOFFSETTO:-0400
END:DAYLIGHT
END:VTIMEZONE
END:VCALENDAR
