BEGIN:VCALENDAR
VERSION:2.0
PRODID:-//Plone.org//NONSGML plone.app.event//EN
X-WR-TIMEZONE:America/New_York
BEGIN:VEVENT
SUMMARY:Final Examinations
DTSTART:20250520T040000Z
DTEND:20250521T035900Z
DTSTAMP:20260420T140306Z
UID:fb094b393b454fd7af3f3affc5d0c904@172.16.140.7:8080
CATEGORIES:Spring,student,Academic Calendar
CREATED:20240702T210707Z
DESCRIPTION:Final Examinations
LAST-MODIFIED:20240703T165758Z
URL:https://www.york.cuny.edu/registrar/calendar/spring/final-examinations
 -4
END:VEVENT
END:VCALENDAR
