BEGIN:VCALENDAR
VERSION:2.0
PRODID:-//Plone.org//NONSGML plone.app.event//EN
X-WR-TIMEZONE:America/New_York
BEGIN:VEVENT
SUMMARY:Final Examinations
DTSTART:20250518T040000Z
DTEND:20250519T035900Z
DTSTAMP:20260420T101429Z
UID:46c2e619f9c44f849e1c38a57b120c0d@172.16.140.7:8080
CATEGORIES:Spring,student,Academic Calendar
CREATED:20240702T210205Z
DESCRIPTION:Final Examinations
LAST-MODIFIED:20240703T165718Z
URL:https://www.york.cuny.edu/registrar/calendar/spring/final-examinations
 -2
END:VEVENT
END:VCALENDAR
