BEGIN:VCALENDAR
VERSION:2.0
PRODID:-//Plone.org//NONSGML plone.app.event//EN
X-WR-TIMEZONE:America/New_York
BEGIN:VEVENT
SUMMARY:Final Examinations
DTSTART;TZID=America/New_York:20260521T000000
DTEND;TZID=America/New_York:20260521T235900
DTSTAMP:20260420T164038Z
UID:bfc725310aed421097d6bbba63450165@172.16.140.7:8080
CATEGORIES:Spring,student,Academic Calendar,2026
CREATED:20250701T183440Z
DESCRIPTION:Final Examinations
LAST-MODIFIED:20250904T144845Z
URL:https://www.york.cuny.edu/registrar/calendar/spring/final-examinations
 -11
END:VEVENT
BEGIN:VTIMEZONE
TZID:America/New_York
X-LIC-LOCATION:America/New_York
BEGIN:DAYLIGHT
DTSTART:20260308T030000
TZNAME:EDT
TZOFFSETFROM:-0500
TZOFFSETTO:-0400
END:DAYLIGHT
END:VTIMEZONE
END:VCALENDAR
