BEGIN:VCALENDAR
VERSION:2.0
PRODID:-//Plone.org//NONSGML plone.app.event//EN
X-WR-TIMEZONE:America/New_York
BEGIN:VEVENT
SUMMARY:Spring Recess – No classes scheduled
DTSTART;TZID=US/Eastern:20240422T000000
DTEND;TZID=US/Eastern:20240422T235900
DTSTAMP:20260420T212506Z
UID:976779e665f8472893f4a5258c0e0b88@172.16.140.7:8080
CATEGORIES:Academic Calendar,student,Spring
CREATED:20230907T183010Z
DESCRIPTION:Spring Recess – No classes scheduled
LAST-MODIFIED:20230919T215045Z
URL:https://www.york.cuny.edu/registrar/calendar/spring-recess-no-classes-
 scheduled
END:VEVENT
BEGIN:VTIMEZONE
TZID:US/Eastern
X-LIC-LOCATION:US/Eastern
BEGIN:DAYLIGHT
DTSTART:20240310T030000
TZNAME:EDT
TZOFFSETFROM:-0500
TZOFFSETTO:-0400
END:DAYLIGHT
END:VTIMEZONE
END:VCALENDAR
