BEGIN:VCALENDAR
VERSION:2.0
PRODID:-//Plone.org//NONSGML plone.app.event//EN
X-WR-TIMEZONE:America/New_York
BEGIN:VEVENT
SUMMARY:R2T4 60% date for the term
DTSTART;TZID=US/Eastern:20240331T000000
DTEND;TZID=US/Eastern:20240331T235900
DTSTAMP:20260421T104628Z
UID:f249f3d31d42424e90a4c06994c830c5@172.16.140.7:8080
CATEGORIES:Academic Calendar,student,Spring
CREATED:20230907T181003Z
DESCRIPTION:R2T4 60% date for the term
LAST-MODIFIED:20230907T181010Z
URL:https://www.york.cuny.edu/registrar/calendar/r2t4-60-date-for-the-term
 -1
END:VEVENT
BEGIN:VTIMEZONE
TZID:US/Eastern
X-LIC-LOCATION:US/Eastern
BEGIN:DAYLIGHT
DTSTART:20240310T030000
TZNAME:EDT
TZOFFSETFROM:-0500
TZOFFSETTO:-0400
END:DAYLIGHT
END:VTIMEZONE
END:VCALENDAR
