BEGIN:VCALENDAR
VERSION:2.0
PRODID:-//Plone.org//NONSGML plone.app.event//EN
X-WR-TIMEZONE:America/New_York
BEGIN:VEVENT
SUMMARY:No classes scheduled
DTSTART;TZID=US/Eastern:20230917T000000
DTEND;TZID=US/Eastern:20230917T235900
DTSTAMP:20260420T040500Z
UID:996be295658e40929950bcc5a8efb418@172.16.140.7:8080
CATEGORIES:Academic Calendar
CREATED:20230919T180334Z
LAST-MODIFIED:20230919T180341Z
URL:https://www.york.cuny.edu/registrar/calendar/no-classes-scheduled-21
END:VEVENT
BEGIN:VTIMEZONE
TZID:US/Eastern
X-LIC-LOCATION:US/Eastern
BEGIN:DAYLIGHT
DTSTART:20230312T030000
TZNAME:EDT
TZOFFSETFROM:-0500
TZOFFSETTO:-0400
END:DAYLIGHT
END:VTIMEZONE
END:VCALENDAR
