BEGIN:VCALENDAR
VERSION:2.0
PRODID:-//Plone.org//NONSGML plone.app.event//EN
X-WR-TIMEZONE:America/New_York
BEGIN:VEVENT
SUMMARY:Midterm Assessment Period
DTSTART;TZID=US/Eastern:20240317T000000
DTEND;TZID=US/Eastern:20240317T235900
DTSTAMP:20260421T052529Z
UID:eaf368e2e3d74ee6b01a67c13057fb23@172.16.140.7:8080
CATEGORIES:Academic Calendar,Spring
CREATED:20230919T214319Z
DESCRIPTION:Midterm Assessment Period
LAST-MODIFIED:20230919T221443Z
URL:https://www.york.cuny.edu/registrar/calendar/midterm-assessment-period
 -34
END:VEVENT
BEGIN:VTIMEZONE
TZID:US/Eastern
X-LIC-LOCATION:US/Eastern
BEGIN:DAYLIGHT
DTSTART:20240310T030000
TZNAME:EDT
TZOFFSETFROM:-0500
TZOFFSETTO:-0400
END:DAYLIGHT
END:VTIMEZONE
END:VCALENDAR
