BEGIN:VCALENDAR
VERSION:2.0
PRODID:-//Plone.org//NONSGML plone.app.event//EN
X-WR-TIMEZONE:America/New_York
BEGIN:VEVENT
SUMMARY:*Late Registration and Program Changes
DTSTART;TZID=US/Eastern:20240131T000000
DTEND;TZID=US/Eastern:20240131T235900
DTSTAMP:20260419T200411Z
UID:733df0721da14729a9d9f0808e4a7a77@172.16.140.7:8080
CATEGORIES:Spring,ds,Academic Calendar
CREATED:20230919T210851Z
DESCRIPTION:*Late Registration and Program Changes
LAST-MODIFIED:20240129T194824Z
URL:https://www.york.cuny.edu/registrar/calendar/late-registration-and-pro
 gram-changes-47
END:VEVENT
BEGIN:VTIMEZONE
TZID:US/Eastern
X-LIC-LOCATION:US/Eastern
BEGIN:STANDARD
DTSTART:20231105T010000
TZNAME:EST
TZOFFSETFROM:-0400
TZOFFSETTO:-0500
END:STANDARD
END:VTIMEZONE
END:VCALENDAR
