BEGIN:VCALENDAR
VERSION:2.0
PRODID:-//Plone.org//NONSGML plone.app.event//EN
X-WR-TIMEZONE:America/New_York
BEGIN:VEVENT
SUMMARY:Last day of classes
DTSTART;VALUE=DATE:20240122
DTEND;VALUE=DATE:20240123
DTSTAMP:20260421T124207Z
UID:2a1523bd53ac4524b4a8e8fef8c4f3a1@172.16.140.7:8080
CATEGORIES:Academic Calendar,Winter
CREATED:20230130T204513Z
DESCRIPTION:Last day of classes
LAST-MODIFIED:20230919T205216Z
URL:https://www.york.cuny.edu/registrar/calendar/last-day-of-classes----
END:VEVENT
END:VCALENDAR
