BEGIN:VCALENDAR
VERSION:2.0
PRODID:-//Plone.org//NONSGML plone.app.event//EN
X-WR-TIMEZONE:America/New_York
BEGIN:VEVENT
SUMMARY:First day of classes
DTSTART;TZID=US/Eastern:20240125T000000
DTEND;TZID=US/Eastern:20240125T235900
DTSTAMP:20260421T084151Z
UID:8fae7baebb0d448995190114ecae1d60@172.16.140.7:8080
CATEGORIES:Spring,ds,student,Academic Calendar
CREATED:20230907T155107Z
DESCRIPTION:First day of classes
LAST-MODIFIED:20240116T142337Z
URL:https://www.york.cuny.edu/registrar/calendar/first-day-of-classes-14
END:VEVENT
BEGIN:VTIMEZONE
TZID:US/Eastern
X-LIC-LOCATION:US/Eastern
BEGIN:STANDARD
DTSTART:20231105T010000
TZNAME:EST
TZOFFSETFROM:-0400
TZOFFSETTO:-0500
END:STANDARD
END:VTIMEZONE
END:VCALENDAR
