BEGIN:VCALENDAR
VERSION:2.0
PRODID:-//Plone.org//NONSGML plone.app.event//EN
X-WR-TIMEZONE:America/New_York
BEGIN:VEVENT
SUMMARY:Financial Aid Certification Enrollment Status date
DTSTART;VALUE=DATE:20240102
DTEND;VALUE=DATE:20240103
DTSTAMP:20260421T155000Z
UID:490a15e494c645aa81ade0295a9956f7@172.16.140.7:8080
CATEGORIES:Academic Calendar,Winter
CREATED:20230130T202024Z
DESCRIPTION:Financial Aid Certification Enrollment Status date
LAST-MODIFIED:20230919T203416Z
URL:https://www.york.cuny.edu/registrar/calendar/financial-aid-certificati
 on-enrollment-status-date---------
END:VEVENT
END:VCALENDAR
