BEGIN:VCALENDAR
VERSION:2.0
PRODID:-//Plone.org//NONSGML plone.app.event//EN
X-WR-TIMEZONE:America/New_York
BEGIN:VEVENT
SUMMARY:Final Examinations
DTSTART;VALUE=DATE:20231220
DTEND;VALUE=DATE:20231221
DTSTAMP:20260420T163335Z
UID:4db487a8af9e475eb48a813d3ef18696@172.16.140.7:8080
CATEGORIES:Fall,ds,Academic Calendar
CREATED:20230919T194913Z
DESCRIPTION:Final Examinations
LAST-MODIFIED:20231213T205558Z
URL:https://www.york.cuny.edu/registrar/calendar/final-examinations-22
END:VEVENT
END:VCALENDAR
