BEGIN:VCALENDAR
VERSION:2.0
PRODID:-//Plone.org//NONSGML plone.app.event//EN
X-WR-TIMEZONE:America/New_York
BEGIN:VEVENT
SUMMARY:Midterm Assessment Period
DTSTART;TZID=America/New_York:20251009T000000
DTEND;TZID=America/New_York:20251009T235900
DTSTAMP:20260421T022927Z
UID:a988df36da7149e59b01f97b32a468ca@172.16.140.7:8080
CATEGORIES:2025,Fall,student,Academic Calendar
CREATED:20250312T133656Z
DESCRIPTION:Midterm Assessment Period.
LAST-MODIFIED:20250312T135253Z
URL:https://www.york.cuny.edu/registrar/calendar/fall/midterm-assessment-p
 eriod-5
END:VEVENT
BEGIN:VTIMEZONE
TZID:America/New_York
X-LIC-LOCATION:America/New_York
BEGIN:DAYLIGHT
DTSTART:20250309T030000
TZNAME:EDT
TZOFFSETFROM:-0500
TZOFFSETTO:-0400
END:DAYLIGHT
END:VTIMEZONE
END:VCALENDAR
