BEGIN:VCALENDAR
VERSION:2.0
PRODID:-//Plone.org//NONSGML plone.app.event//EN
X-WR-TIMEZONE:America/New_York
BEGIN:VEVENT
SUMMARY:*Late Registration and Program Changes begin Late Registration fee
  $25 Change of Program fee $18
DTSTART:20240828T040000Z
DTEND:20240829T035900Z
DTSTAMP:20260419T083147Z
UID:0d12fd6e2aae4dbb811aecae5ff47cf7@172.16.140.7:8080
CATEGORIES:Fall,student,Academic Calendar
CREATED:20240312T144419Z
DESCRIPTION:The Late registration and program change period begins
LAST-MODIFIED:20240702T182822Z
URL:https://www.york.cuny.edu/registrar/calendar/fall/late-registration-an
 d-program-changes-begin
END:VEVENT
END:VCALENDAR
