BEGIN:VCALENDAR
VERSION:2.0
PRODID:-//Plone.org//NONSGML plone.app.event//EN
X-WR-TIMEZONE:America/New_York
BEGIN:VEVENT
SUMMARY:Last day to drop course(s) for 75% tuition refund
DTSTART;TZID=America/New_York:20250901T000000
DTEND;TZID=America/New_York:20250901T235900
DTSTAMP:20260421T145330Z
UID:bb4abdefbb68464596da593df39a37e0@172.16.140.7:8080
CATEGORIES:2025,Fall,student,Academic Calendar
CREATED:20250311T182058Z
DESCRIPTION:Last day to drop course(s) for 75% tuition refund.
LAST-MODIFIED:20250403T165928Z
URL:https://www.york.cuny.edu/registrar/calendar/fall/last-day-to-drop-cou
 rse-s-for-75-tuition-refund
END:VEVENT
BEGIN:VTIMEZONE
TZID:America/New_York
X-LIC-LOCATION:America/New_York
BEGIN:DAYLIGHT
DTSTART:20250309T030000
TZNAME:EDT
TZOFFSETFROM:-0500
TZOFFSETTO:-0400
END:DAYLIGHT
END:VTIMEZONE
END:VCALENDAR
