BEGIN:VCALENDAR
VERSION:2.0
PRODID:-//Plone.org//NONSGML plone.app.event//EN
X-WR-TIMEZONE:America/New_York
BEGIN:VEVENT
SUMMARY:First day of classes
DTSTART;TZID=America/New_York:20250826T000000
DTEND;TZID=America/New_York:20250826T235900
DTSTAMP:20260421T031858Z
UID:6f6ce954fb2046e0905eb2323831cac6@172.16.140.7:8080
CATEGORIES:2025,ds,Academic Calendar,Fall,student
CREATED:20250311T180727Z
DESCRIPTION:First day of classes.
LAST-MODIFIED:20250530T135539Z
URL:https://www.york.cuny.edu/registrar/calendar/fall/first-day-of-classes
 -2
END:VEVENT
BEGIN:VTIMEZONE
TZID:America/New_York
X-LIC-LOCATION:America/New_York
BEGIN:DAYLIGHT
DTSTART:20250309T030000
TZNAME:EDT
TZOFFSETFROM:-0500
TZOFFSETTO:-0400
END:DAYLIGHT
END:VTIMEZONE
END:VCALENDAR
