BEGIN:VCALENDAR
VERSION:2.0
PRODID:-//Plone.org//NONSGML plone.app.event//EN
X-WR-TIMEZONE:America/New_York
BEGIN:VEVENT
SUMMARY:College is closed – No classes scheduled
DTSTART:20241014T040000Z
DTEND:20241015T035900Z
DTSTAMP:20260421T063620Z
UID:9094f0eba12b4133b37c15c602021c29@172.16.140.7:8080
CATEGORIES:Fall,student,Academic Calendar
CONTACT:https://www.york.cuny.edu/fall
CREATED:20240312T164019Z
DESCRIPTION:College is closed – No classes scheduled
LAST-MODIFIED:20241004T142054Z
URL:https://www.york.cuny.edu/registrar/calendar/fall/college-is-closed-no
 -classes-scheduled
END:VEVENT
END:VCALENDAR
