BEGIN:VCALENDAR
VERSION:2.0
PRODID:-//Plone.org//NONSGML plone.app.event//EN
X-WR-TIMEZONE:America/New_York
BEGIN:VEVENT
SUMMARY:College is closed
DTSTART:20240902T040000Z
DTEND:20240905T035900Z
DTSTAMP:20260421T002608Z
UID:4f9b9c553c6e4c3d9f89471c2cfd9abc@172.16.140.7:8080
CATEGORIES:Fall,student,Academic Calendar
CREATED:20240312T152909Z
DESCRIPTION:Labor Day observed
LAST-MODIFIED:20240927T194918Z
URL:https://www.york.cuny.edu/registrar/calendar/fall/college-is-closed-3
END:VEVENT
END:VCALENDAR
