BEGIN:VCALENDAR
VERSION:2.0
PRODID:-//Plone.org//NONSGML plone.app.event//EN
X-WR-TIMEZONE:America/New_York
BEGIN:VEVENT
SUMMARY:100% Tuition obligation for course drops
DTSTART;TZID=America/New_York:20250916T000000
DTEND;TZID=America/New_York:20250916T235900
DTSTAMP:20260421T084550Z
UID:d06d14418763492da20c60a13c9ad460@172.16.140.7:8080
CATEGORIES:2025,Fall,student,Academic Calendar
CREATED:20250311T184343Z
DESCRIPTION:100% Tuition obligation for course drops
LAST-MODIFIED:20250403T171227Z
URL:https://www.york.cuny.edu/registrar/calendar/fall/100-tuition-obligati
 on-for-course-drops-1
END:VEVENT
BEGIN:VTIMEZONE
TZID:America/New_York
X-LIC-LOCATION:America/New_York
BEGIN:DAYLIGHT
DTSTART:20250309T030000
TZNAME:EDT
TZOFFSETFROM:-0500
TZOFFSETTO:-0400
END:DAYLIGHT
END:VTIMEZONE
END:VCALENDAR
