BEGIN:VCALENDAR
VERSION:2.0
PRODID:-//Plone.org//NONSGML plone.app.event//EN
X-WR-TIMEZONE:America/New_York
BEGIN:VEVENT
SUMMARY:*Last day to add a course(s)
DTSTART;VALUE=DATE:20220103
DTEND;VALUE=DATE:20220104
DTSTAMP:20260421T142453Z
UID:141bd8ab05924e989a373e0b371353fd@172.16.140.7:8080
CATEGORIES:Academic Calendar,Winter
CREATED:20210419T150513Z
DESCRIPTION:*Last day to add a course(s)
LAST-MODIFIED:20230330T121658Z
URL:https://www.york.cuny.edu/registrar/calendar/copy_of_last-day-to-add-a
 -courses
END:VEVENT
END:VCALENDAR
