BEGIN:VCALENDAR
VERSION:2.0
PRODID:-//Plone.org//NONSGML plone.app.event//EN
X-WR-TIMEZONE:America/New_York
BEGIN:VEVENT
SUMMARY:First day of classes
DTSTART;VALUE=DATE:20220103
DTEND;VALUE=DATE:20220104
DTSTAMP:20260421T052530Z
UID:360a5ed8ffcb4a85a5355314a7b253ee@172.16.140.7:8080
CATEGORIES:Academic Calendar,Winter
CREATED:20210419T150119Z
DESCRIPTION:First day of classes
LAST-MODIFIED:20230330T121657Z
URL:https://www.york.cuny.edu/registrar/calendar/copy_of_first-day-of-clas
 ses---
END:VEVENT
END:VCALENDAR
