BEGIN:VCALENDAR
VERSION:2.0
PRODID:-//Plone.org//NONSGML plone.app.event//EN
X-WR-TIMEZONE:America/New_York
BEGIN:VEVENT
SUMMARY:YC Theatre presents: Motherf**ker with the Hat
DTSTART;TZID=America/New_York:20221202T190000
DTEND;TZID=America/New_York:20221202T214500
DTSTAMP:20260421T132147Z
UID:90e317ffdf894d1bbfb4cd5784524e03@172.16.140.7:8080
CATEGORIES:York College Theater
CONTACT:Tom Marion\, 718-262-3705\, tmarion@york.cuny.edu
CREATED:20221027T193629Z
DESCRIPTION:The Broadway sensation by Pulitzer Prize winning Playwright St
 ephen Adly Guirgis.
LAST-MODIFIED:20231208T162942Z
LOCATION:Jamaica Performing Arts Center\, 153-10 Jamaica Avenue\, Jamaica\
 , NY 11432
URL:https://www.york.cuny.edu/performing-fine-arts/programs/speech-comm-th
 eatre-arts/event.2022-10-27.3891537429
END:VEVENT
BEGIN:VTIMEZONE
TZID:America/New_York
X-LIC-LOCATION:America/New_York
BEGIN:STANDARD
DTSTART:20221106T010000
TZNAME:EST
TZOFFSETFROM:-0400
TZOFFSETTO:-0500
END:STANDARD
END:VTIMEZONE
END:VCALENDAR
