BEGIN:VCALENDAR
VERSION:2.0
PRODID:-//Plone.org//NONSGML plone.app.event//EN
X-WR-TIMEZONE:America/New_York
BEGIN:VEVENT
SUMMARY:Music Program Lecture + Masterclass: Toni Ann Semple
DTSTART;TZID=America/New_York:20191121T120000
DTEND;TZID=America/New_York:20191121T140000
DTSTAMP:20260421T005635Z
UID:15f928e0650443d8b54198a4158ea81d@172.16.140.7:8080
CATEGORIES:ds,Performing and Fine Arts,Music,employee featured
CONTACT:George Lam\, glam@york.cuny.edu
CREATED:20190829T014702Z
DESCRIPTION:The York College Music Program Lecture + Masterclass Series pr
 esents a masterclass with singer-songwriter Toni Ann Semple.
LAST-MODIFIED:20231208T162953Z
LOCATION:AC-LL01
URL:https://www.york.cuny.edu/performing-fine-arts/events/2019-20/music-pr
 ogram-lecturemasterclass-toni-ann-semple
END:VEVENT
BEGIN:VTIMEZONE
TZID:America/New_York
X-LIC-LOCATION:America/New_York
BEGIN:STANDARD
DTSTART:20191103T010000
TZNAME:EST
TZOFFSETFROM:-0400
TZOFFSETTO:-0500
END:STANDARD
END:VTIMEZONE
END:VCALENDAR
