BEGIN:VCALENDAR
VERSION:2.0
PRODID:-//Plone.org//NONSGML plone.app.event//EN
X-WR-TIMEZONE:America/New_York
BEGIN:VEVENT
SUMMARY:POSTPONED: Interstate: A New Musical
DTSTART;TZID=America/New_York:20200421T150000
DTEND;TZID=America/New_York:20200421T170000
DTSTAMP:20260421T055316Z
UID:d8ce9b7e0aba4bc2bda5422f1b4e0097@172.16.140.7:8080
CATEGORIES:Performing and Fine Arts,employee featured,Music,student,employ
 ee
CONTACT:George Lam\, glam@york.cuny.edu
CREATED:20191207T220016Z
DESCRIPTION:The Division of Student Affairs and the Department of Performi
 ng and Fine Arts present a special live concert performance of music from 
 "Interstate"\, the award-winning musical by Melissa Li and Kit Yan.
LAST-MODIFIED:20231208T162953Z
LOCATION:Academic Core 3H Atrium
URL:https://www.york.cuny.edu/performing-fine-arts/events/2019-20/intersta
 te-a-new-musical
END:VEVENT
BEGIN:VTIMEZONE
TZID:America/New_York
X-LIC-LOCATION:America/New_York
BEGIN:DAYLIGHT
DTSTART:20200308T030000
TZNAME:EDT
TZOFFSETFROM:-0500
TZOFFSETTO:-0400
END:DAYLIGHT
END:VTIMEZONE
END:VCALENDAR
