BEGIN:VCALENDAR
VERSION:2.0
PRODID:-//Plone.org//NONSGML plone.app.event//EN
X-WR-TIMEZONE:America/New_York
BEGIN:VEVENT
SUMMARY:CANCELLED: York College Big Band
DTSTART;TZID=America/New_York:20200513T190000
DTEND;TZID=America/New_York:20200513T210000
DTSTAMP:20260421T055218Z
UID:43653c09933f40dfb76bf34adfaa4c87@172.16.140.7:8080
CATEGORIES:student,Student Activities,Performing and Fine Arts,Music
CONTACT:Tom Zlabinger\, tzlabinger@york.cuny.edu
CREATED:20200122T073507Z
DESCRIPTION:The York College Big Band presents their Spring 2020 concert.
LAST-MODIFIED:20231208T162953Z
LOCATION:Academic Core (Room TBC)
URL:https://www.york.cuny.edu/performing-fine-arts/events/2019-20/big-band
END:VEVENT
BEGIN:VTIMEZONE
TZID:America/New_York
X-LIC-LOCATION:America/New_York
BEGIN:DAYLIGHT
DTSTART:20200308T030000
TZNAME:EDT
TZOFFSETFROM:-0500
TZOFFSETTO:-0400
END:DAYLIGHT
END:VTIMEZONE
END:VCALENDAR
