BEGIN:VCALENDAR
VERSION:2.0
PRODID:-//Plone.org//NONSGML plone.app.event//EN
X-WR-TIMEZONE:America/New_York
BEGIN:VEVENT
SUMMARY:CANCELLED: Occupational Therapy Virtual Information Sessions
DTSTART;TZID=America/New_York:20201013T160000
DTEND;TZID=America/New_York:20201013T180000
DTSTAMP:20260420T034232Z
UID:4695fe2ffbc143ae835e1ac23aeed07d@172.16.140.7:8080
CATEGORIES:Current Students,Occupational Therapy
CONTACT:ot@york.cuny.edu
CREATED:20201005T171241Z
DESCRIPTION:Information Sessions are arranged for anyone who is interested
  in the OT Program and would like more information.
LAST-MODIFIED:20201013T231446Z
URL:https://www.york.cuny.edu/occupational-therapy/occupational-therapy-vi
 rtual-information-sessions
END:VEVENT
BEGIN:VTIMEZONE
TZID:America/New_York
X-LIC-LOCATION:America/New_York
BEGIN:DAYLIGHT
DTSTART:20200308T030000
TZNAME:EDT
TZOFFSETFROM:-0500
TZOFFSETTO:-0400
END:DAYLIGHT
END:VTIMEZONE
END:VCALENDAR
