BEGIN:VCALENDAR
VERSION:2.0
PRODID:-//Plone.org//NONSGML plone.app.event//EN
X-WR-TIMEZONE:America/New_York
BEGIN:VEVENT
SUMMARY:Occupational Therapy May 2021 Information Session 5-6pm
DTSTART;TZID=America/New_York:20210511T170000
DTEND;TZID=America/New_York:20210511T180000
DTSTAMP:20260420T165425Z
UID:af640177d6f044c4a657f9888ef07d0d@172.16.140.7:8080
CATEGORIES:Current Students,Occupational Therapy,Student Activities
CREATED:20210420T180325Z
DESCRIPTION:Information sessions allow you to speak directly with faculty 
 members\, learn more about the Occupational Therapy Program and its career
 .
LAST-MODIFIED:20210505T200349Z
URL:https://www.york.cuny.edu/occupational-therapy/occupational-therapy-ma
 y-information-session-5-6pm
END:VEVENT
BEGIN:VTIMEZONE
TZID:America/New_York
X-LIC-LOCATION:America/New_York
BEGIN:DAYLIGHT
DTSTART:20210314T030000
TZNAME:EDT
TZOFFSETFROM:-0500
TZOFFSETTO:-0400
END:DAYLIGHT
END:VTIMEZONE
END:VCALENDAR
