BEGIN:VCALENDAR
VERSION:2.0
PRODID:-//Plone.org//NONSGML plone.app.event//EN
X-WR-TIMEZONE:America/New_York
BEGIN:VEVENT
SUMMARY:Occupational Therapy May 2021 Information Session 4-5pm
DTSTART;TZID=America/New_York:20210511T160000
DTEND;TZID=America/New_York:20210511T170000
DTSTAMP:20260420T165921Z
UID:7345da17605c446fa8890b2884042f41@172.16.140.7:8080
CATEGORIES:Current Students,Occupational Therapy,Student Activities
CREATED:20210419T124109Z
DESCRIPTION:Information sessions allow you to speak directly with faculty 
 members\, learn more about the Occupational Therapy Program and its career
 .
LAST-MODIFIED:20210505T180737Z
LOCATION:Zoom
URL:https://www.york.cuny.edu/occupational-therapy/occupational-therapy-ma
 y-2021-information-session
END:VEVENT
BEGIN:VTIMEZONE
TZID:America/New_York
X-LIC-LOCATION:America/New_York
BEGIN:DAYLIGHT
DTSTART:20210314T030000
TZNAME:EDT
TZOFFSETFROM:-0500
TZOFFSETTO:-0400
END:DAYLIGHT
END:VTIMEZONE
END:VCALENDAR
