BEGIN:VCALENDAR
VERSION:2.0
PRODID:-//Plone.org//NONSGML plone.app.event//EN
X-WR-TIMEZONE:America/New_York
BEGIN:VEVENT
SUMMARY:OT Information Session
DTSTART;TZID=America/New_York:20250409T160000
DTEND;TZID=America/New_York:20250409T180000
DTSTAMP:20260425T192401Z
UID:86998e54596d4b24bc0e2b8866295eb3@172.16.140.7:8080
CATEGORIES:ds,OT
CONTACT:Occupational Therapy  Program\, 718-262-2720\, ot@york.cuny.edu\, 
 https://us02web.zoom.us/meeting/register/tZUkduqvqTgpH9FpbtTHCe9ZXjjIcwcwk
 bUz
CREATED:20250401T134834Z
DESCRIPTION:Join us for an informative session where we’ll provide all t
 he details you need about our Occupational Program.
LAST-MODIFIED:20250407T144112Z
LOCATION:Zoom
URL:https://www.york.cuny.edu/occupational-therapy/information-session-9
END:VEVENT
BEGIN:VTIMEZONE
TZID:America/New_York
X-LIC-LOCATION:America/New_York
BEGIN:DAYLIGHT
DTSTART:20250309T030000
TZNAME:EDT
TZOFFSETFROM:-0500
TZOFFSETTO:-0400
END:DAYLIGHT
END:VTIMEZONE
END:VCALENDAR
