BEGIN:VCALENDAR
VERSION:2.0
PRODID:-//Plone.org//NONSGML plone.app.event//EN
X-WR-TIMEZONE:America/New_York
BEGIN:VEVENT
SUMMARY:Occupational Therapy: Information Session
DTSTART:20241211T210000Z
DTEND:20241211T230000Z
DTSTAMP:20260423T202636Z
UID:9627c827e9714788952aa46e008698ca@172.16.140.7:8080
CATEGORIES:ds,OT,Occupational Therapy
CONTACT:Occupational Therapy  Program\, 718-262-2720\, ot@york.cuny.edu\, 
 https://us02web.zoom.us/meeting/register/tZIpceGqqz8rGtUVvG7n2_-8iBs_n4l-L
 mJt
CREATED:20241112T145833Z
DESCRIPTION:Information sessions provide the public with information regar
 ding the program and application process.
LAST-MODIFIED:20241112T190743Z
LOCATION:Zoom
URL:https://www.york.cuny.edu/occupational-therapy/information-session-5
END:VEVENT
END:VCALENDAR
