BEGIN:VCALENDAR
VERSION:2.0
PRODID:-//Plone.org//NONSGML plone.app.event//EN
X-WR-TIMEZONE:America/New_York
BEGIN:VEVENT
SUMMARY:Occupational Therapy Program Information Session
DTSTART;TZID=America/New_York:20260311T160000
DTEND;TZID=America/New_York:20260311T180000
DTSTAMP:20260421T203519Z
UID:41d55028c66049df980b09583eebd103@172.16.140.7:8080
CATEGORIES:occupational therapy\, OT,ds
CONTACT:Occupational Therapy  Program\, 718-262-2720\, ot@york.cuny.edu\, 
 https://us02web.zoom.us/meeting/register/X1xsMM09R5Wk70lYVOXSZg
CREATED:20260226T161346Z
DESCRIPTION:Join us for an informative session where we’ll provide all t
 he details you need about our Occupational Program. Whether you’re inter
 ested in learning about the program itself\, the application process\, or 
 the prerequisite courses\, this session is your chance to get all the info
 rmation in one place
LAST-MODIFIED:20260302T153503Z
LOCATION:Zoom
URL:https://www.york.cuny.edu/occupational-therapy/information-session-12
END:VEVENT
BEGIN:VTIMEZONE
TZID:America/New_York
X-LIC-LOCATION:America/New_York
BEGIN:DAYLIGHT
DTSTART:20260308T030000
TZNAME:EDT
TZOFFSETFROM:-0500
TZOFFSETTO:-0400
END:DAYLIGHT
END:VTIMEZONE
END:VCALENDAR
