BEGIN:VCALENDAR
VERSION:2.0
PRODID:-//Plone.org//NONSGML plone.app.event//EN
X-WR-TIMEZONE:America/New_York
BEGIN:VEVENT
SUMMARY:OT Information Session
DTSTART:20231218T210000Z
DTEND:20231218T230000Z
DTSTAMP:20260423T224917Z
UID:167338eb5537480e83f33ff90753d74d@172.16.140.7:8080
CATEGORIES:ds,Occupational Therapy
CONTACT:Department of Occupational Therapy\, 718-262-2720\, OT@YORK.CUNY.E
 DU\, https://us02web.zoom.us/meeting/register/tZAvduGuqTIrG9QS0anPLuDTjERC
 m3tYTI-7
CREATED:20231212T192726Z
DESCRIPTION:Information Sessions are used to provide general information a
 bout the application process and program.
LAST-MODIFIED:20231213T144402Z
LOCATION:ZOOM
URL:https://www.york.cuny.edu/occupational-therapy/info-session-2
END:VEVENT
END:VCALENDAR
