BEGIN:VCALENDAR
VERSION:2.0
PRODID:-//Plone.org//NONSGML plone.app.event//EN
X-WR-TIMEZONE:America/New_York
BEGIN:VEVENT
SUMMARY:Observatory Public Open Night
DTSTART;TZID=America/New_York:20191113T193000
DTEND;TZID=America/New_York:20191113T203000
DTSTAMP:20260424T095101Z
UID:12db2f7bf9df4118835ab2abe625d6e5@172.16.140.7:8080
CATEGORIES:employee,Observatory,student,Earth and Physical Sciences
CONTACT:Tim Paglione\, 718-262-2082\, paglione@york.cuny.edu
CREATED:20180606T195208Z
DESCRIPTION:The Observatory is open to the public every second or third We
 dnesday of the month rain or shine at 7:30pm (8:30pm during daylight savin
 g time). Please call 718-262-2082 for more information.
LAST-MODIFIED:20190826T204126Z
LOCATION:2E01
URL:https://www.york.cuny.edu/observatory/pon1118
END:VEVENT
BEGIN:VTIMEZONE
TZID:America/New_York
X-LIC-LOCATION:America/New_York
BEGIN:STANDARD
DTSTART:20191103T010000
TZNAME:EST
TZOFFSETFROM:-0400
TZOFFSETTO:-0500
END:STANDARD
END:VTIMEZONE
END:VCALENDAR
