BEGIN:VCALENDAR
VERSION:2.0
PRODID:-//Plone.org//NONSGML plone.app.event//EN
X-WR-TIMEZONE:America/New_York
BEGIN:VEVENT
SUMMARY:Observatory Public Open Night
DTSTART;TZID=America/New_York:20161214T193000
DTEND;TZID=America/New_York:20161214T203000
DTSTAMP:20260420T063505Z
UID:e78c9e5a797a4261b17d5f1bc6cddc3e@172.16.140.7:8080
CATEGORIES:Earth and Physical Sciences,student,Observatory
CONTACT:Timothy Paglione\, 7182622082\, paglione@york.cuny.edu
CREATED:20160823T131825Z
DESCRIPTION:The Observatory is open to the public every second or third We
 dnesday of the month rain or shine at 7:30pm (8:30pm during daylight savin
 g time). Please call 718-262-2082 for more information.
LAST-MODIFIED:20170410T174419Z
LOCATION:2E01
URL:https://www.york.cuny.edu/observatory/observatory-public-open-night-23
END:VEVENT
BEGIN:VTIMEZONE
TZID:America/New_York
X-LIC-LOCATION:America/New_York
BEGIN:STANDARD
DTSTART:20161106T010000
TZNAME:EST
TZOFFSETFROM:-0400
TZOFFSETTO:-0500
END:STANDARD
END:VTIMEZONE
END:VCALENDAR
