BEGIN:VCALENDAR
VERSION:2.0
PRODID:-//Plone.org//NONSGML plone.app.event//EN
X-WR-TIMEZONE:America/New_York
BEGIN:VEVENT
SUMMARY:Observatory Public Open Night
DTSTART;TZID=America/New_York:20161019T203000
DTEND;TZID=America/New_York:20161019T213000
DTSTAMP:20260426T002113Z
UID:c5373819fcd94ca0b951d561daae507c@172.16.140.7:8080
CATEGORIES:Earth and Physical Sciences,student,Observatory
CONTACT:Timothy Paglione\, 718-262-2082\, paglione@york.cuny.edu
CREATED:20160823T131431Z
DESCRIPTION:The Observatory is open to the public every second or third We
 dnesday of the month rain or shine at 7:30pm (8:30pm during daylight savin
 g time). Please call 718-262-2082 for more information.
LAST-MODIFIED:20170410T174602Z
LOCATION:2E01
URL:https://www.york.cuny.edu/observatory/observatory-public-open-night-21
END:VEVENT
BEGIN:VTIMEZONE
TZID:America/New_York
X-LIC-LOCATION:America/New_York
BEGIN:DAYLIGHT
DTSTART:20160313T030000
TZNAME:EDT
TZOFFSETFROM:-0500
TZOFFSETTO:-0400
END:DAYLIGHT
END:VTIMEZONE
END:VCALENDAR
