BEGIN:VCALENDAR
VERSION:2.0
PRODID:-//Plone.org//NONSGML plone.app.event//EN
X-WR-TIMEZONE:America/New_York
BEGIN:VEVENT
SUMMARY:Observatory Public Open Night 9-11-24
DTSTART:20240912T003000Z
DTEND:20240912T013000Z
DTSTAMP:20260424T005117Z
UID:fb4b46ee38d04a9ca03c03104a9c6986@172.16.140.7:8080
CATEGORIES:Observatory,ds
CONTACT:Tim Paglione\, 718-262-2082\, paglione@york.cuny.edu
CREATED:20240829T140701Z
DESCRIPTION:The Observatory is open to the public the second Wednesday of 
 the month rain or shine
LAST-MODIFIED:20240911T235428Z
LOCATION:AC-2E01
URL:https://www.york.cuny.edu/observatory/observatory-public-open-night-1
END:VEVENT
END:VCALENDAR
