BEGIN:VCALENDAR
VERSION:2.0
PRODID:-//Plone.org//NONSGML plone.app.event//EN
X-WR-TIMEZONE:America/New_York
BEGIN:VEVENT
SUMMARY:Observatory Public Open Night 3-21-25
DTSTART:20250313T003000Z
DTEND:20250313T013000Z
DTSTAMP:20260420T090247Z
UID:c5a2aecb0e644cf492de61ef73f02d0b@172.16.140.7:8080
CATEGORIES:Observatory,ds
CONTACT:Tim Paglione\, 718-262-2082\, paglione@york.cuny.edu
CREATED:20240829T141539Z
DESCRIPTION:The Observatory is open to the public the second Wednesday of 
 the month rain or shine
LAST-MODIFIED:20240911T235521Z
LOCATION:AC-2E01
URL:https://www.york.cuny.edu/observatory/copy6_of_observatory-public-open
 -night
END:VEVENT
END:VCALENDAR
