BEGIN:VCALENDAR
VERSION:2.0
PRODID:-//Plone.org//NONSGML plone.app.event//EN
X-WR-TIMEZONE:America/New_York
BEGIN:VEVENT
SUMMARY:Observatory Public Open Night 11-13-24
DTSTART:20241114T003000Z
DTEND:20241114T013000Z
DTSTAMP:20260420T065658Z
UID:1d4de80fbef644f1964694f80c9cbf28@172.16.140.7:8080
CATEGORIES:Observatory,ds
CONTACT:Tim Paglione\, 718-262-2082\, paglione@york.cuny.edu
CREATED:20240829T141134Z
DESCRIPTION:The Observatory is open to the public the second Wednesday of 
 the month rain or shine
LAST-MODIFIED:20240911T235524Z
LOCATION:AC-2E01
URL:https://www.york.cuny.edu/observatory/copy3_of_observatory-public-open
 -night
END:VEVENT
END:VCALENDAR
