BEGIN:VCALENDAR
VERSION:2.0
PRODID:-//Plone.org//NONSGML plone.app.event//EN
X-WR-TIMEZONE:America/New_York
BEGIN:VEVENT
SUMMARY:RN-BSN Group Information Session
DTSTART;TZID=America/New_York:20141124T100000
DTEND;TZID=America/New_York:20141124T103000
DTSTAMP:20260425T122839Z
UID:33c9a46bac2043939684fcb683224bf3@172.16.140.7:8080
CATEGORIES:Prospective Student,Nursing
CONTACT:Keteya Harrison-Melville\, 718-262-2054\, nursing@york.cuny.edu
CREATED:20141010T182439Z
DESCRIPTION:The group information sessions are designed for individuals th
 at are not York College students and require more information about the RN
 -BSN program.
LAST-MODIFIED:20171205T191443Z
LOCATION:Science Building-Room 103
URL:https://www.york.cuny.edu/nursing/rn-bsn-group-information-session-1
END:VEVENT
BEGIN:VTIMEZONE
TZID:America/New_York
X-LIC-LOCATION:America/New_York
BEGIN:STANDARD
DTSTART:20141102T010000
TZNAME:EST
TZOFFSETFROM:-0400
TZOFFSETTO:-0500
END:STANDARD
END:VTIMEZONE
END:VCALENDAR
