BEGIN:VCALENDAR
VERSION:2.0
PRODID:-//Plone.org//NONSGML plone.app.event//EN
X-WR-TIMEZONE:America/New_York
BEGIN:VEVENT
SUMMARY:Nursing Information Session
DTSTART:20241212T170000Z
DTEND:20241212T190000Z
DTSTAMP:20260425T152040Z
UID:9fe5ae0ad4c440518f1d7ea630d72a47@172.16.140.7:8080
CATEGORIES:Nursing,ds
CONTACT:https://us05web.zoom.us/j/4816577910?pwd=OUJHVU13c1piSERXZFpOYURve
 FRvUT09&omn=84650566199
CREATED:20240215T203309Z
DESCRIPTION:Nursing Department Information Session with Dr. Carew and Dr. 
 Alcindor
LAST-MODIFIED:20241204T210549Z
URL:https://www.york.cuny.edu/nursing/nursing_information_session-12-12-20
 24
END:VEVENT
END:VCALENDAR
