BEGIN:VCALENDAR
VERSION:2.0
PRODID:-//Plone.org//NONSGML plone.app.event//EN
X-WR-TIMEZONE:America/New_York
BEGIN:VEVENT
SUMMARY:Nursing Information Sessions: RN-BS
DTSTART;TZID=America/New_York:20190313T130000
DTEND;TZID=America/New_York:20190313T143000
DTSTAMP:20260423T153824Z
UID:3fe98c0c32c54032aa61576de35dbd81@172.16.140.7:8080
CATEGORIES:student,Nursing,employee
CREATED:20190307T160754Z
LAST-MODIFIED:20190307T161548Z
LOCATION:SC-108
URL:https://www.york.cuny.edu/nursing/nursing-information-sessions-rn-bs
END:VEVENT
BEGIN:VTIMEZONE
TZID:America/New_York
X-LIC-LOCATION:America/New_York
BEGIN:DAYLIGHT
DTSTART:20190310T030000
TZNAME:EDT
TZOFFSETFROM:-0500
TZOFFSETTO:-0400
END:DAYLIGHT
END:VTIMEZONE
END:VCALENDAR
