BEGIN:VCALENDAR
VERSION:2.0
PRODID:-//Plone.org//NONSGML plone.app.event//EN
X-WR-TIMEZONE:America/New_York
BEGIN:VEVENT
SUMMARY:NLN Pre-Admission Exam
DTSTART;TZID=America/New_York:20130515T100000
DTEND;TZID=America/New_York:20130515T130000
DTSTAMP:20260420T034229Z
UID:9cc72d2e7f614059b06c33167e52688a@172.16.140.7:8080
CONTACT:Keteya Harrison\, 718-262-3780\, kharrison@york.cuny.edu
CREATED:20121003T154425Z
LAST-MODIFIED:20170331T163659Z
LOCATION:Academic Core Building-Testing Center \,Room 1G05
URL:https://www.york.cuny.edu/nursing/nln-pre-admission-exam-4
END:VEVENT
BEGIN:VTIMEZONE
TZID:America/New_York
X-LIC-LOCATION:America/New_York
BEGIN:DAYLIGHT
DTSTART:20130310T030000
TZNAME:EDT
TZOFFSETFROM:-0500
TZOFFSETTO:-0400
END:DAYLIGHT
END:VTIMEZONE
END:VCALENDAR
