BEGIN:VCALENDAR
VERSION:2.0
PRODID:-//Plone.org//NONSGML plone.app.event//EN
X-WR-TIMEZONE:America/New_York
BEGIN:VEVENT
SUMMARY:Healthy Lifestyle Series
DTSTART;TZID=America/New_York:20140423T080000
DTEND;TZID=America/New_York:20140423T093000
DTSTAMP:20260420T162535Z
UID:74f5ada4464345f5917ac8a6a1ddbf0a@172.16.140.7:8080
CATEGORIES:Nursing
CONTACT:Nursing Program Office\, 718-262-2054
CREATED:20140328T150259Z
DESCRIPTION:The Nursing students will present the topic of Smoking Cessati
 on 
LAST-MODIFIED:20170331T163707Z
LOCATION:Atrium
URL:https://www.york.cuny.edu/nursing/healthy-lifestyle-series-2
END:VEVENT
BEGIN:VTIMEZONE
TZID:America/New_York
X-LIC-LOCATION:America/New_York
BEGIN:DAYLIGHT
DTSTART:20140309T030000
TZNAME:EDT
TZOFFSETFROM:-0500
TZOFFSETTO:-0400
END:DAYLIGHT
END:VTIMEZONE
END:VCALENDAR
