BEGIN:VCALENDAR
VERSION:2.0
PRODID:-//Plone.org//NONSGML plone.app.event//EN
X-WR-TIMEZONE:America/New_York
BEGIN:VEVENT
SUMMARY:Generic Nursing Information Session
DTSTART;TZID=America/New_York:20121030T100000
DTEND;TZID=America/New_York:20121030T103000
DTSTAMP:20260422T153252Z
UID:ba1ce13022b64c5f8c13737ec09adb14@172.16.140.7:8080
CATEGORIES:Nursing
CONTACT:Nursing Program Office\, 718-262-2054
CREATED:20121023T145932Z
DESCRIPTION:Requirements for the generic program will be reviewed.
LAST-MODIFIED:20170331T163720Z
LOCATION:SC103
URL:https://www.york.cuny.edu/nursing/generic-nursing-information-session
END:VEVENT
BEGIN:VTIMEZONE
TZID:America/New_York
X-LIC-LOCATION:America/New_York
BEGIN:DAYLIGHT
DTSTART:20120311T030000
TZNAME:EDT
TZOFFSETFROM:-0500
TZOFFSETTO:-0400
END:DAYLIGHT
END:VTIMEZONE
END:VCALENDAR
