BEGIN:VCALENDAR
VERSION:2.0
PRODID:-//Plone.org//NONSGML plone.app.event//EN
X-WR-TIMEZONE:America/New_York
BEGIN:VEVENT
SUMMARY:Nursing Information Session
DTSTART:20240307T180000Z
DTEND:20240307T190000Z
DTSTAMP:20260424T003145Z
UID:d05220f8c21f48d2bf4aca9efd51437e@172.16.140.7:8080
CATEGORIES:Nursing,ds
CONTACT:https://us02web.zoom.us/meeting/register/tZUtdOGsqDgjE9LCDxqExlbIq
 L2b1mGg8rhO
CREATED:20240215T203309Z
DESCRIPTION:Nursing Department Information Session
LAST-MODIFIED:20240215T203731Z
URL:https://www.york.cuny.edu/nursing/copy_of_nursing-information-session
END:VEVENT
END:VCALENDAR
