BEGIN:VCALENDAR
VERSION:2.0
PRODID:-//Plone.org//NONSGML plone.app.event//EN
X-WR-TIMEZONE:America/New_York
BEGIN:VEVENT
SUMMARY:Upward and Onward Program - 2021
DTSTART;TZID=America/New_York:20210604T120000
DTEND;TZID=America/New_York:20210604T140000
DTSTAMP:20260421T065430Z
UID:7278f8ad9e864ea0bf0eae517e845b43@172.16.140.7:8080
ATTENDEE;CN="Men's Center";ROLE=REQ-PARTICIPANT:Men's Center
CATEGORIES:Men's Center,Commencement
CONTACT:Jonathan Quash\, 718-262-3772\, jquash@york.cuny.edu
CREATED:20210420T212843Z
DESCRIPTION:Join us in honoring the Class of 2021 as we celebrate the upwa
 rd and onward movement of the program participants from the Male Initiativ
 e Program\, Hungry For Knowledge and our Route to Success Program (pre-col
 lege).
LAST-MODIFIED:20230526T185616Z
LOCATION:Live Stream (Zoom)
URL:https://www.york.cuny.edu/mens-center/mens-center-calendar/upward-and-
 onward-program---2021
END:VEVENT
BEGIN:VTIMEZONE
TZID:America/New_York
X-LIC-LOCATION:America/New_York
BEGIN:DAYLIGHT
DTSTART:20210314T030000
TZNAME:EDT
TZOFFSETFROM:-0500
TZOFFSETTO:-0400
END:DAYLIGHT
END:VTIMEZONE
END:VCALENDAR
