BEGIN:VCALENDAR
VERSION:2.0
PRODID:-//Plone.org//NONSGML plone.app.event//EN
X-WR-TIMEZONE:America/New_York
BEGIN:VEVENT
SUMMARY:Bow Ties with Eric!
DTSTART;TZID=America/New_York:20160526T083000
DTEND;TZID=America/New_York:20160526T093000
DTSTAMP:20260421T144600Z
UID:3e30647589c44fc3b8126ad5e7135129@172.16.140.7:8080
ATTENDEE;CN="Men's Center";ROLE=REQ-PARTICIPANT:Men's Center
CATEGORIES:Men's Center,employee featured
CONTACT:Jonathan Quash\, 718.262.3772\, jquash@york.cuny.edu
CREATED:20160518T185808Z
DESCRIPTION:Getting ready for graduation?  Want to wear a bow tie?  Why no
 t let our student expert show you how?  Bow Ties with Eric is a very quick
  lesson on how to tie a bow tie.  Stop by and learn\, plus you get a free 
 bow tie!
LAST-MODIFIED:20230526T185112Z
LOCATION:3M02 - Men's Center
URL:https://www.york.cuny.edu/mens-center/mens-center-calendar/bow-ties-wi
 th-eric
END:VEVENT
BEGIN:VTIMEZONE
TZID:America/New_York
X-LIC-LOCATION:America/New_York
BEGIN:DAYLIGHT
DTSTART:20160313T030000
TZNAME:EDT
TZOFFSETFROM:-0500
TZOFFSETTO:-0400
END:DAYLIGHT
END:VTIMEZONE
END:VCALENDAR
