BEGIN:VCALENDAR
VERSION:2.0
PRODID:-//Plone.org//NONSGML plone.app.event//EN
X-WR-TIMEZONE:America/New_York
BEGIN:VEVENT
SUMMARY:Math/CS Week
DTSTART;TZID=America/New_York:20150420T080000
DTEND;TZID=America/New_York:20150424T110000
DTSTAMP:20260422T221044Z
UID:2a9d231b2d424779b2d71a300e0c56c8@172.16.140.7:8080
ATTENDEE;CN="Open to all those interested. You do NOT need to be a math or
  computer science major to attend";ROLE=REQ-PARTICIPANT:Open to all those 
 interested. You do NOT need to be a math or computer science major to atte
 nd
CATEGORIES:Student Affairs,Mathematics and Computer Science
CONTACT:Dr. Lidia Gonzalez\, 718-262-2551\, lgonzalez@york.cuny.edu\, http
 ://pit-lab.net/macsw/
CREATED:20150413T022354Z
DESCRIPTION:Math/CS Week
LAST-MODIFIED:20240911T125447Z
URL:https://www.york.cuny.edu/mathematics-computer-science/resources/math-
 club/math-cs-week
END:VEVENT
BEGIN:VTIMEZONE
TZID:America/New_York
X-LIC-LOCATION:America/New_York
BEGIN:DAYLIGHT
DTSTART:20150308T030000
TZNAME:EDT
TZOFFSETFROM:-0500
TZOFFSETTO:-0400
END:DAYLIGHT
END:VTIMEZONE
END:VCALENDAR
