BEGIN:VCALENDAR
VERSION:2.0
PRODID:-//Plone.org//NONSGML plone.app.event//EN
X-WR-TIMEZONE:America/New_York
BEGIN:VEVENT
SUMMARY:Library CLOSED - Presidents' Day
DTSTART;TZID=America/New_York:20160214T190000
DTEND;TZID=America/New_York:20160215T183000
DTSTAMP:20260424T024214Z
UID:426bd1156b6aa94019227ccff6394cd7@172.16.140.7:8080
CATEGORIES:Library
CREATED:20090203T151044Z
DESCRIPTION:The Library will be CLOSED on Presidents' Day.
LAST-MODIFIED:20170413T130847Z
LOCATION:Library
URL:https://www.york.cuny.edu/library/reference-databases/library-closed-p
 residents-day
END:VEVENT
BEGIN:VTIMEZONE
TZID:America/New_York
X-LIC-LOCATION:America/New_York
BEGIN:STANDARD
DTSTART:20151101T010000
TZNAME:EST
TZOFFSETFROM:-0400
TZOFFSETTO:-0500
END:STANDARD
END:VTIMEZONE
END:VCALENDAR
